BEGIN:VCALENDAR
VERSION:2.0
PRODID:-//FHWien der WKW//NONSGML Events //EN
BEGIN:VEVENT
DTSTART:20260526T180000
DTEND:20260526T220000
LOCATION:FHWien der WKW | Festsaal C 517| Währinger Gürtel 97\, 1180 Wien
SUMMARY:Abend im Hörfeld mit Journalistin Anja Troelenberg: Border Business – Das Geschäft mit Europas Grenzen
DESCRIPTION:FHWien der WKW | Festsaal C 517| Währinger Gürtel 97\, 1180 Wien
END:VEVENT
END:VCALENDAR
